BEGIN:VCALENDAR
VERSION:2.0
PRODID:-//Partnerschaftsverein Fritzlar-Casina e.V. - ECPv6.15.20//NONSGML v1.0//EN
CALSCALE:GREGORIAN
METHOD:PUBLISH
X-WR-CALNAME:Partnerschaftsverein Fritzlar-Casina e.V.
X-ORIGINAL-URL:https://fritzlar-casina.eu
X-WR-CALDESC:Veranstaltungen für Partnerschaftsverein Fritzlar-Casina e.V.
REFRESH-INTERVAL;VALUE=DURATION:PT1H
X-Robots-Tag:noindex
X-PUBLISHED-TTL:PT1H
BEGIN:VTIMEZONE
TZID:UTC
BEGIN:STANDARD
TZOFFSETFROM:+0000
TZOFFSETTO:+0000
TZNAME:UTC
DTSTART:20220101T000000
END:STANDARD
END:VTIMEZONE
BEGIN:VEVENT
DTSTART;TZID=UTC:20231023T183000
DTEND;TZID=UTC:20231023T210000
DTSTAMP:20260420T161444
CREATED:20231012T131516Z
LAST-MODIFIED:20231012T131516Z
UID:887-1698085800-1698094800@fritzlar-casina.eu
SUMMARY:Mitgliederabend
DESCRIPTION:Wir wollen hiermit zu einem ersten zwanglosen Beisammensein der Vereinsmitglieder in italienischem Ambiente einladen.\n\nHerzlich willkommen sind auch alle\, die unserem Verein beitreten wollen und an diesem Abend mit uns in Kontakt treten möchten.\nWir freuen uns auf ein zwangloses Beisammensein bei Prosecco und Häppchen.\nDie Kosten hierfür trägt der Partnerschaftsverein\, über eine Spende am Abend würden wir uns freuen.\n\n#fritzlar #casina #partnerschaftsvereinfritzlarcasina #gemeinsamegeschichteseit1076 #reggioemilia #schwalmederkreis
URL:https://fritzlar-casina.eu/event/mitgliederabend/
LOCATION:Lido – Café Vino Events\, Am Hospital 23\, Fritzlar\, Hessen\, 34560
CATEGORIES:Eventi,Veranstaltungen
ATTACH;FMTTYPE=image/png:https://fritzlar-casina.eu/wp-content/uploads/2023/10/HP-Veranstaltungsbanner-PNG.png
ORGANIZER;CN="Partnerschaftsverein Fritzlar-Casina e.V.":MAILTO:kontakt@fritzlar-casina.eu
END:VEVENT
END:VCALENDAR